BEGIN:VCALENDAR
VERSION:2.0
CALSCALE:GREGORIAN
PRODID:-//Diputació de Barcelona//DibaCMS//EN
BEGIN:VEVENT
UID:2019
DTSTAMP:20260423T154303
DTSTART:20260423T090000
DTEND:20260423T140000
SUMMARY:Festa de Sant Jordi 
LOCATION:08699 Vallcebre
METHOD:PUBLISH
X-WR-CALNAME:vallcebre@vallcebre.cat
X-WR-TIMEZONE:Europe/Madrid
DESCRIPTION:Per Sant Jordi a Vallcebre, roses i llibre per a tothom!!!!

URI:https://www.vallcebre.cat/actualitat/agenda/festa-de-sant-jordi-.html
CLASS:PUBLIC
END:VEVENT
END:VCALENDAR
