BEGIN:VCALENDAR
VERSION:2.0
CALSCALE:GREGORIAN
PRODID:-//Diputació de Barcelona//DibaCMS//EN
BEGIN:VEVENT
UID:2018
DTSTAMP:20260424T134348
DTSTART:20260424T145000
DTEND:20260424T155000
SUMMARY:Servei banca mòbil Caixa Engingenys
LOCATION:08699 Vallcebre
METHOD:PUBLISH
X-WR-CALNAME:vallcebre@vallcebre.cat
X-WR-TIMEZONE:Europe/Madrid
DESCRIPTION:
URI:https://www.vallcebre.cat/actualitat/agenda/servei-banca-mobil-caixa-engingenys.html
CLASS:PUBLIC
END:VEVENT
END:VCALENDAR
