BEGIN:VCALENDAR
VERSION:2.0
CALSCALE:GREGORIAN
PRODID:-//Diputació de Barcelona//DibaCMS//EN
BEGIN:VEVENT
UID:2010
DTSTAMP:20260425T162739
DTSTART:20260426T170000
DTEND:20260426T210000
SUMMARY:Truitada Popular de Vallcebre
LOCATION:08699 Vallcebre
METHOD:PUBLISH
X-WR-CALNAME:vallcebre@vallcebre.cat
X-WR-TIMEZONE:Europe/Madrid
DESCRIPTION:
URI:https://www.vallcebre.cat/actualitat/agenda/2010-truitada-popular-de-vallcebre.html
CLASS:PUBLIC
END:VEVENT
END:VCALENDAR
